BEGIN:VCALENDAR
VERSION:2.0
PRODID:-//Centro Peninsular en Humanidades y Ciencias Sociales - ECPv6.15.13.1//NONSGML v1.0//EN
CALSCALE:GREGORIAN
METHOD:PUBLISH
X-WR-CALNAME:Centro Peninsular en Humanidades y Ciencias Sociales
X-ORIGINAL-URL:https://www.cephcis.unam.mx
X-WR-CALDESC:Eventos para Centro Peninsular en Humanidades y Ciencias Sociales
REFRESH-INTERVAL;VALUE=DURATION:PT1H
X-Robots-Tag:noindex
X-PUBLISHED-TTL:PT1H
BEGIN:VTIMEZONE
TZID:America/Mexico_City
BEGIN:STANDARD
TZOFFSETFROM:-0600
TZOFFSETTO:-0600
TZNAME:CST
DTSTART:20250101T000000
END:STANDARD
END:VTIMEZONE
BEGIN:VEVENT
DTSTART;TZID=America/Mexico_City:20260320T180000
DTEND;TZID=America/Mexico_City:20260529T203000
DTSTAMP:20260424T031411
CREATED:20260306T170328Z
LAST-MODIFIED:20260313T203659Z
UID:14806-1774029600-1780086600@www.cephcis.unam.mx
SUMMARY:Exposición: Yucatán\, la cuna del feminismo en México
DESCRIPTION:La exposición presenta una selección de impresiones fotográficas realizadas a partir de materiales bibliográficos resguardados en el Fondo Reservado del CEPHCIS. Estos documentos históricos permiten acercarse a uno de los capítulos más relevantes de la historia social y política de Yucatán: su papel como territorio precursor del movimiento feminista en México. \nInauguración: \n📆 20 de marzo 2026 \n🕛18: 00 horas\n📍 Sede Dragones \n📆  Fechas para visitar la exposición\n📍Sede Dragones\, del 20 de marzo al 29 de mayo 2026\n📍 Sede Rendón Peniche\, Galería Patio Central. del 4 de junio al 29 de agosto 2026
URL:https://www.cephcis.unam.mx/evento/exposicion-yucatan-cuna-del-feminismo-en-mexico/
LOCATION:CEPHCIS UNAM Sede Dragones\, Calle 61 #470 por 52 y 54\, Centro\, 97000 Mérida\, Yuc.\, Mérida\, Yucatán\, 97000\, Mexico
ATTACH;FMTTYPE=image/webp:https://www.cephcis.unam.mx/wp-content/uploads/2026/03/WhatsApp-Image-2026-03-06-at-10.45.29-AM.webp
END:VEVENT
BEGIN:VEVENT
DTSTART;TZID=America/Mexico_City:20260424T053000
DTEND;TZID=America/Mexico_City:20260424T193000
DTSTAMP:20260424T031411
CREATED:20260406T171455Z
LAST-MODIFIED:20260406T194747Z
UID:15095-1777008600-1777059000@www.cephcis.unam.mx
SUMMARY:Proyección del documental: "Mi No Lugar"
DESCRIPTION:Mi no lugar es un viaje por el desarraigo\, que lleva a Jonathan como pasajero a vivir en lugares ajenos que lo rechazan. Es un adolescente que migra de Guerrero a Colima\, guiado por la ilusión de sus padres jornaleros de caña\, que lo motivan a estudiar la secundaria y a reencontrarse con ellos. Sin embargo las barreras de la desigualdad\, hacen que Jonathan se sume al ciclo ardiente de la zafra\, y con ello recorra los paisajes de la explotación. \n🗣️Dirección: Isis Ahumada Monroy. México\, 2022. \n📆Fecha: 24 de abril de 2026 \n🕛Hora: 17:30 hrs. \n💻Modalidad: Presencial \n📍Sede: Recinto Rendón Peniche\, Sala de videoconferencias
URL:https://www.cephcis.unam.mx/evento/proyeccion-del-documental-mi-no-lugar/
LOCATION:Cephcis – Rendón Peniche\, Calle 43 SN\, Industrial\, Mérida\, Yucatán\, 97150\, Mexico
CATEGORIES:Proyección cinematográfica
ATTACH;FMTTYPE=image/webp:https://www.cephcis.unam.mx/wp-content/uploads/2026/04/Documental_Mi_no_lugar.webp
END:VEVENT
END:VCALENDAR